BEGIN:VCALENDAR
VERSION:2.0
PRODID:-//ProEventos - ECPv6.15.20//NONSGML v1.0//EN
CALSCALE:GREGORIAN
METHOD:PUBLISH
X-WR-CALNAME:ProEventos
X-ORIGINAL-URL:https://proeventos.campeche.gob.mx
X-WR-CALDESC:Eventos para ProEventos
REFRESH-INTERVAL;VALUE=DURATION:PT1H
X-Robots-Tag:noindex
X-PUBLISHED-TTL:PT1H
BEGIN:VTIMEZONE
TZID:America/Mexico_City
BEGIN:DAYLIGHT
TZOFFSETFROM:-0600
TZOFFSETTO:-0500
TZNAME:CDT
DTSTART:20210404T080000
END:DAYLIGHT
BEGIN:STANDARD
TZOFFSETFROM:-0500
TZOFFSETTO:-0600
TZNAME:CST
DTSTART:20211031T070000
END:STANDARD
BEGIN:DAYLIGHT
TZOFFSETFROM:-0600
TZOFFSETTO:-0500
TZNAME:CDT
DTSTART:20220403T080000
END:DAYLIGHT
BEGIN:STANDARD
TZOFFSETFROM:-0500
TZOFFSETTO:-0600
TZNAME:CST
DTSTART:20221030T070000
END:STANDARD
END:VTIMEZONE
BEGIN:VEVENT
DTSTART;TZID=America/Mexico_City:20220428T210000
DTEND;TZID=America/Mexico_City:20220428T230000
DTSTAMP:20260420T075852
CREATED:20220316T195935Z
LAST-MODIFIED:20220316T195935Z
UID:1443-1651179600-1651186800@proeventos.campeche.gob.mx
SUMMARY:Tour Siddhartha
DESCRIPTION:Siddhartha en Campeche el próximo 28 de abril en el Teatro Circo Renacimiento a las 9 pm. #00.00Tour\n\n\nLos boletos ya están a la venta https://arema.mx/e/7906
URL:https://proeventos.campeche.gob.mx/evento/tour-siddhartha/
LOCATION:Circo – Teatro Renacimiento\, Circo Teatro Renacimiento\, San Francisco de Campeche\, Campeche\, 24010\, Mexico
CATEGORIES:Circo Teatro Renacimiento
ATTACH;FMTTYPE=image/jpeg:https://proeventos.campeche.gob.mx/wp-content/uploads/2022/03/275545145_4926890524014529_5572606274225084197_n.jpg
END:VEVENT
END:VCALENDAR