BEGIN:VCALENDAR
VERSION:2.0
PRODID:-//ProEventos - ECPv6.15.20//NONSGML v1.0//EN
CALSCALE:GREGORIAN
METHOD:PUBLISH
X-ORIGINAL-URL:https://proeventos.campeche.gob.mx
X-WR-CALDESC:Eventos para ProEventos
REFRESH-INTERVAL;VALUE=DURATION:PT1H
X-Robots-Tag:noindex
X-PUBLISHED-TTL:PT1H
BEGIN:VTIMEZONE
TZID:America/Mexico_City
BEGIN:DAYLIGHT
TZOFFSETFROM:-0600
TZOFFSETTO:-0500
TZNAME:CDT
DTSTART:20210404T080000
END:DAYLIGHT
BEGIN:STANDARD
TZOFFSETFROM:-0500
TZOFFSETTO:-0600
TZNAME:CST
DTSTART:20211031T070000
END:STANDARD
BEGIN:DAYLIGHT
TZOFFSETFROM:-0600
TZOFFSETTO:-0500
TZNAME:CDT
DTSTART:20220403T080000
END:DAYLIGHT
BEGIN:STANDARD
TZOFFSETFROM:-0500
TZOFFSETTO:-0600
TZNAME:CST
DTSTART:20221030T070000
END:STANDARD
END:VTIMEZONE
BEGIN:VEVENT
DTSTART;VALUE=DATE:20221011
DTEND;VALUE=DATE:20221014
DTSTAMP:20260420T151330
CREATED:20220316T202316Z
LAST-MODIFIED:20220927T140429Z
UID:1449-1665446400-1665705599@proeventos.campeche.gob.mx
SUMMARY:Tercera Edición de Shallow and Deepwater Mexico
DESCRIPTION:Próximamente Shallow & Deepwater Mexico Exhibition + Conference\, Third Edition \n\n\n\n El tema 2022: La Nueva Era: Tendencias y Estrategias Energéticas Sustentables Internacionales.\n\n\n\n Congreso de petróleo y gas en Offshore enfocado en la exploración y producción de hidrocarburos en aguas someras y aguas profundas en el Golfo de México.\n\n\n\nSe intercambiarán ideas\, compartirán prácticas e identificarán desafíos sobre:\n Descarbonización\, ecoinnovación tecnológica y digital.\n Desmantelamiento de plataformas petroleras.\n Producción costa afuera de México.\n Presupuestos PEMEX para las zonas de exploración y producción 2022-2024.\n Tecnología en sustentabilidad offshore.\n Sanciones en el nuevo mundo petrolero.\n Energía e infraestructura offshore de Pemex.\nEntre otros temas…\n\n\n+ 1500 asistentes de más de 20 países.\n+ 50 speakers nacionales e internacionales.\n+ 50 expositores.\n\n\nContará con:\nPabellones Internacionales\nCócteles Networking\nInnovation Stage\n\n\nTeléfonos\n📞 838 18 60 705\n📞 938 18 60 712\nOrganizado por EPG Events\n\n\nhttps://shallowanddeepwaterexpo.com/\n\n\nShallow and Deepwater Mexico\nJennifer Granda
URL:https://proeventos.campeche.gob.mx/evento/tercera-edicion-de-shallow-and-deepwater-mexico/
LOCATION:Centro de Convenciones Carmen XXI\, Carmen XXI Convention Center\, Ciudad del Carmen\, Campeche\, 24115\, Mexico
CATEGORIES:Centro de Convenciones Carmen XXI
ATTACH;FMTTYPE=image/png:https://proeventos.campeche.gob.mx/wp-content/uploads/2022/03/266299523_4655384894555590_8037283550476240722_n.png
END:VEVENT
END:VCALENDAR